BEGIN:VCALENDAR
VERSION:2.0
PRODID:-//Stephenville Tourism and Visitors Bureau - ECPv6.15.14//NONSGML v1.0//EN
CALSCALE:GREGORIAN
METHOD:PUBLISH
X-WR-CALNAME:Stephenville Tourism and Visitors Bureau
X-ORIGINAL-URL:https://visitstephenville.com
X-WR-CALDESC:Events for Stephenville Tourism and Visitors Bureau
REFRESH-INTERVAL;VALUE=DURATION:PT1H
X-Robots-Tag:noindex
X-PUBLISHED-TTL:PT1H
BEGIN:VTIMEZONE
TZID:America/Chicago
BEGIN:DAYLIGHT
TZOFFSETFROM:-0600
TZOFFSETTO:-0500
TZNAME:CDT
DTSTART:20250309T080000
END:DAYLIGHT
BEGIN:STANDARD
TZOFFSETFROM:-0500
TZOFFSETTO:-0600
TZNAME:CST
DTSTART:20251102T070000
END:STANDARD
BEGIN:DAYLIGHT
TZOFFSETFROM:-0600
TZOFFSETTO:-0500
TZNAME:CDT
DTSTART:20260308T080000
END:DAYLIGHT
BEGIN:STANDARD
TZOFFSETFROM:-0500
TZOFFSETTO:-0600
TZNAME:CST
DTSTART:20261101T070000
END:STANDARD
BEGIN:DAYLIGHT
TZOFFSETFROM:-0600
TZOFFSETTO:-0500
TZNAME:CDT
DTSTART:20270314T080000
END:DAYLIGHT
BEGIN:STANDARD
TZOFFSETFROM:-0500
TZOFFSETTO:-0600
TZNAME:CST
DTSTART:20271107T070000
END:STANDARD
END:VTIMEZONE
BEGIN:VEVENT
DTSTART;VALUE=DATE:20260420
DTEND;VALUE=DATE:20260426
DTSTAMP:20260422T223424
CREATED:20251231T141632Z
LAST-MODIFIED:20251231T141632Z
UID:10306-1776643200-1777161599@visitstephenville.com
SUMMARY:Larry Joe Taylor Music Festival
DESCRIPTION:
URL:https://visitstephenville.com/event/larry-joe-taylor-music-festival-2/
LOCATION:Melody Mountain Ranch\, 1290 Private Road 707\, Stephenville\, 76401
END:VEVENT
BEGIN:VEVENT
DTSTART;VALUE=DATE:20260424
DTEND;VALUE=DATE:20260426
DTSTAMP:20260422T223424
CREATED:20251231T142123Z
LAST-MODIFIED:20251231T142123Z
UID:10309-1776988800-1777161599@visitstephenville.com
SUMMARY:Texas State Southern Gospel Singing Convention
DESCRIPTION:
URL:https://visitstephenville.com/event/texas-state-southern-gospel-singing-convention/
LOCATION:TX
END:VEVENT
END:VCALENDAR